BEGIN:VCALENDAR
VERSION:2.0
PRODID:-//Twan Smits - ECPv6.15.20//NONSGML v1.0//EN
CALSCALE:GREGORIAN
METHOD:PUBLISH
X-WR-CALNAME:Twan Smits
X-ORIGINAL-URL:https://smitsracingteam.com
X-WR-CALDESC:Evenementen voor Twan Smits
REFRESH-INTERVAL;VALUE=DURATION:PT1H
X-Robots-Tag:noindex
X-PUBLISHED-TTL:PT1H
BEGIN:VTIMEZONE
TZID:UTC
BEGIN:STANDARD
TZOFFSETFROM:+0000
TZOFFSETTO:+0000
TZNAME:UTC
DTSTART:20240101T000000
END:STANDARD
END:VTIMEZONE
BEGIN:VEVENT
DTSTART;VALUE=DATE:20250926
DTEND;VALUE=DATE:20250929
DTSTAMP:20260425T181353
CREATED:20241119T131611Z
LAST-MODIFIED:20241119T131643Z
UID:162-1758844800-1759103999@smitsracingteam.com
SUMMARY:IDM Hockenheim
DESCRIPTION:
URL:https://smitsracingteam.com/event/idm-hockenheim/
LOCATION:Hockenheim\, Am Motodrom 1
CATEGORIES:IDM
END:VEVENT
END:VCALENDAR