BEGIN:VCALENDAR
VERSION:2.0
PRODID:-//Twan Smits - ECPv6.15.20//NONSGML v1.0//EN
CALSCALE:GREGORIAN
METHOD:PUBLISH
X-WR-CALNAME:Twan Smits
X-ORIGINAL-URL:https://smitsracingteam.com
X-WR-CALDESC:Evenementen voor Twan Smits
REFRESH-INTERVAL;VALUE=DURATION:PT1H
X-Robots-Tag:noindex
X-PUBLISHED-TTL:PT1H
BEGIN:VTIMEZONE
TZID:UTC
BEGIN:STANDARD
TZOFFSETFROM:+0000
TZOFFSETTO:+0000
TZNAME:UTC
DTSTART:20240101T000000
END:STANDARD
END:VTIMEZONE
BEGIN:VEVENT
DTSTART;VALUE=DATE:20250704
DTEND;VALUE=DATE:20250708
DTSTAMP:20260425T200413
CREATED:20241119T131039Z
LAST-MODIFIED:20241119T132133Z
UID:149-1751587200-1751932799@smitsracingteam.com
SUMMARY:IDM Oschersleben (2)
DESCRIPTION:
URL:https://smitsracingteam.com/event/idm-oschersleben-2/
LOCATION:Oschersleben\, Motopark Allee 20-22 39387
CATEGORIES:IDM
END:VEVENT
BEGIN:VEVENT
DTSTART;VALUE=DATE:20250509
DTEND;VALUE=DATE:20250512
DTSTAMP:20260425T200413
CREATED:20241119T121122Z
LAST-MODIFIED:20241119T131854Z
UID:115-1746748800-1747007999@smitsracingteam.com
SUMMARY:IDM Oschersleben (1)
DESCRIPTION:
URL:https://smitsracingteam.com/event/idm-assen/
LOCATION:Oschersleben\, Motopark Allee 20-22 39387
CATEGORIES:IDM
END:VEVENT
END:VCALENDAR